BEGIN:VCALENDAR
VERSION:2.0
PRODID:-//Unity of Columbus - ECPv6.15.20//NONSGML v1.0//EN
CALSCALE:GREGORIAN
METHOD:PUBLISH
X-WR-CALNAME:Unity of Columbus
X-ORIGINAL-URL:https://unityofcolumbus.org
X-WR-CALDESC:Events for Unity of Columbus
REFRESH-INTERVAL;VALUE=DURATION:PT1H
X-Robots-Tag:noindex
X-PUBLISHED-TTL:PT1H
BEGIN:VTIMEZONE
TZID:America/New_York
BEGIN:DAYLIGHT
TZOFFSETFROM:-0500
TZOFFSETTO:-0400
TZNAME:EDT
DTSTART:20250309T070000
END:DAYLIGHT
BEGIN:STANDARD
TZOFFSETFROM:-0400
TZOFFSETTO:-0500
TZNAME:EST
DTSTART:20251102T060000
END:STANDARD
BEGIN:DAYLIGHT
TZOFFSETFROM:-0500
TZOFFSETTO:-0400
TZNAME:EDT
DTSTART:20260308T070000
END:DAYLIGHT
BEGIN:STANDARD
TZOFFSETFROM:-0400
TZOFFSETTO:-0500
TZNAME:EST
DTSTART:20261101T060000
END:STANDARD
BEGIN:DAYLIGHT
TZOFFSETFROM:-0500
TZOFFSETTO:-0400
TZNAME:EDT
DTSTART:20270314T070000
END:DAYLIGHT
BEGIN:STANDARD
TZOFFSETFROM:-0400
TZOFFSETTO:-0500
TZNAME:EST
DTSTART:20271107T060000
END:STANDARD
END:VTIMEZONE
BEGIN:VEVENT
DTSTART;TZID=America/New_York:20260424T193000
DTEND;TZID=America/New_York:20260424T230000
DTSTAMP:20260424T060341
CREATED:20260420T195300Z
LAST-MODIFIED:20260420T195300Z
UID:10000317-1777059000-1777071600@unityofcolumbus.org
SUMMARY:Unity Dance
DESCRIPTION:It’s time to dance!  Join DJ “Spanky” Mezger Fridays at Unity of Columbus!  Open to the public!  Bring your dancin’ shoes! \n$10.00 cover; cash at the door.
URL:https://unityofcolumbus.org/event/unity-dance/2026-04-24/
LOCATION:Unity of Columbus\, 4211 Maize Rd\, Columbus\, OH\, 43224\, United States
ATTACH;FMTTYPE=image/jpeg:https://unityofcolumbus.org/wp-content/uploads/2026/04/unitydance-scaled.jpg
END:VEVENT
BEGIN:VEVENT
DTSTART;TZID=America/New_York:20260426T110000
DTEND;TZID=America/New_York:20260426T120000
DTSTAMP:20260424T060341
CREATED:20260420T195612Z
LAST-MODIFIED:20260420T195612Z
UID:10000578-1777201200-1777204800@unityofcolumbus.org
SUMMARY:Sunday Celebration Service
DESCRIPTION:Our Sunday Celebration Service is your opportunity to experience a positive path for spiritual living! \nIf you are someone who has stepped away from organized religion\, or if you come from a traditional religious background and are looking for inspiration to take your current practice deeper\, Unity is the place to be! \nWherever you are in Life’s journey\, whatever your background\, worldview\, culture\, age\, orientation\, race\, or gender identity\, you are welcome here! \nOur messages are positive and inspiring; you will find something valuable here in our diverse\, welcoming\, life-affirming community! \n  \n*NOTE: Youth and Family Ministry holds classes for children and teens offered TWICE per month – on the 1st and 3rd Sunday!
URL:https://unityofcolumbus.org/event/sunday-celebration-service/
LOCATION:Unity of Columbus\, 4211 Maize Rd\, Columbus\, OH\, 43224\, United States
ATTACH;FMTTYPE=image/jpeg:https://unityofcolumbus.org/wp-content/uploads/2026/04/unitysunday1.jpg
END:VEVENT
BEGIN:VEVENT
DTSTART;TZID=America/New_York:20260426T121500
DTEND;TZID=America/New_York:20260426T123000
DTSTAMP:20260424T060341
CREATED:20260420T195934Z
LAST-MODIFIED:20260420T195934Z
UID:10000579-1777205700-1777206600@unityofcolumbus.org
SUMMARY:Silent Meditation
DESCRIPTION:Prayer is the foundation of our spiritual life. Let us pray with you – no prayer request is too big\, or too small..
URL:https://unityofcolumbus.org/event/silent-meditation/2026-04-26/
LOCATION:Unity of Columbus\, 4211 Maize Rd\, Columbus\, OH\, 43224\, United States
ATTACH;FMTTYPE=image/jpeg:https://unityofcolumbus.org/wp-content/uploads/2026/04/silent.jpg
END:VEVENT
BEGIN:VEVENT
DTSTART;TZID=America/New_York:20260429T183000
DTEND;TZID=America/New_York:20260429T200000
DTSTAMP:20260424T060341
CREATED:20260420T191958Z
LAST-MODIFIED:20260420T194911Z
UID:10000263-1777487400-1777492800@unityofcolumbus.org
SUMMARY:Midweek Renewal - Introduction To Bible Metaphysics
DESCRIPTION:In the first weeks of Eastertide (the weeks between Easter and Pentecost in the liturgical calendar)\, we will provide an overview of Unity’s core textbook: the Bible. Viewing the Bible through a metaphysical lens\, the stories\, people\, and places in the Scriptures represent nuggets of hidden wisdom. \nJoin Licensed Unity Teacher Daryn L. Wells for a four-week journey into the inner depths within the printed Word. \nWednesday Evenings; Meditation: 6:30 p.m. Discussion: 7:00 p.m. \nHybrid: In-Person and Zoom (Contact Us for Link!)
URL:https://unityofcolumbus.org/event/midweek-renewal-introduction-to-bible-metaphysics/2026-04-29/
LOCATION:Unity of Columbus\, 4211 Maize Rd\, Columbus\, OH\, 43224\, United States
ATTACH;FMTTYPE=image/jpeg:https://unityofcolumbus.org/wp-content/uploads/2026/04/midweek2.jpg
END:VEVENT
BEGIN:VEVENT
DTSTART;TZID=America/New_York:20260430T190000
DTEND;TZID=America/New_York:20260430T210000
DTSTAMP:20260424T060341
CREATED:20260420T192306Z
LAST-MODIFIED:20260420T200150Z
UID:10000003-1777575600-1777582800@unityofcolumbus.org
SUMMARY:Reiki Share
DESCRIPTION:Reiki practitioners will be there to share with all whom want to come for Reiki healing and practitioners will share with each other. No charge for anyone.
URL:https://unityofcolumbus.org/event/reiki-share/2026-04-30/
LOCATION:Unity of Columbus\, 4211 Maize Rd\, Columbus\, OH\, 43224\, United States
ATTACH;FMTTYPE=image/jpeg:https://unityofcolumbus.org/wp-content/uploads/2026/04/reiki-e1776715299657.jpg
END:VEVENT
BEGIN:VEVENT
DTSTART;TZID=America/New_York:20260501T193000
DTEND;TZID=America/New_York:20260501T230000
DTSTAMP:20260424T060341
CREATED:20260420T195300Z
LAST-MODIFIED:20260420T195300Z
UID:10000318-1777663800-1777676400@unityofcolumbus.org
SUMMARY:Unity Dance
DESCRIPTION:It’s time to dance!  Join DJ “Spanky” Mezger Fridays at Unity of Columbus!  Open to the public!  Bring your dancin’ shoes! \n$10.00 cover; cash at the door.
URL:https://unityofcolumbus.org/event/unity-dance/2026-05-01/
LOCATION:Unity of Columbus\, 4211 Maize Rd\, Columbus\, OH\, 43224\, United States
ATTACH;FMTTYPE=image/jpeg:https://unityofcolumbus.org/wp-content/uploads/2026/04/unitydance-scaled.jpg
END:VEVENT
BEGIN:VEVENT
DTSTART;TZID=America/New_York:20260503T121500
DTEND;TZID=America/New_York:20260503T123000
DTSTAMP:20260424T060341
CREATED:20260420T195934Z
LAST-MODIFIED:20260420T195934Z
UID:10000580-1777810500-1777811400@unityofcolumbus.org
SUMMARY:Silent Meditation
DESCRIPTION:Prayer is the foundation of our spiritual life. Let us pray with you – no prayer request is too big\, or too small..
URL:https://unityofcolumbus.org/event/silent-meditation/2026-05-03/
LOCATION:Unity of Columbus\, 4211 Maize Rd\, Columbus\, OH\, 43224\, United States
ATTACH;FMTTYPE=image/jpeg:https://unityofcolumbus.org/wp-content/uploads/2026/04/silent.jpg
END:VEVENT
BEGIN:VEVENT
DTSTART;TZID=America/New_York:20260506T183000
DTEND;TZID=America/New_York:20260506T200000
DTSTAMP:20260424T060341
CREATED:20260420T191958Z
LAST-MODIFIED:20260420T194911Z
UID:10000264-1778092200-1778097600@unityofcolumbus.org
SUMMARY:Midweek Renewal - Introduction To Bible Metaphysics
DESCRIPTION:In the first weeks of Eastertide (the weeks between Easter and Pentecost in the liturgical calendar)\, we will provide an overview of Unity’s core textbook: the Bible. Viewing the Bible through a metaphysical lens\, the stories\, people\, and places in the Scriptures represent nuggets of hidden wisdom. \nJoin Licensed Unity Teacher Daryn L. Wells for a four-week journey into the inner depths within the printed Word. \nWednesday Evenings; Meditation: 6:30 p.m. Discussion: 7:00 p.m. \nHybrid: In-Person and Zoom (Contact Us for Link!)
URL:https://unityofcolumbus.org/event/midweek-renewal-introduction-to-bible-metaphysics/2026-05-06/
LOCATION:Unity of Columbus\, 4211 Maize Rd\, Columbus\, OH\, 43224\, United States
ATTACH;FMTTYPE=image/jpeg:https://unityofcolumbus.org/wp-content/uploads/2026/04/midweek2.jpg
END:VEVENT
BEGIN:VEVENT
DTSTART;TZID=America/New_York:20260507T190000
DTEND;TZID=America/New_York:20260507T210000
DTSTAMP:20260424T060341
CREATED:20260420T192306Z
LAST-MODIFIED:20260420T200150Z
UID:10000004-1778180400-1778187600@unityofcolumbus.org
SUMMARY:Reiki Share
DESCRIPTION:Reiki practitioners will be there to share with all whom want to come for Reiki healing and practitioners will share with each other. No charge for anyone.
URL:https://unityofcolumbus.org/event/reiki-share/2026-05-07/
LOCATION:Unity of Columbus\, 4211 Maize Rd\, Columbus\, OH\, 43224\, United States
ATTACH;FMTTYPE=image/jpeg:https://unityofcolumbus.org/wp-content/uploads/2026/04/reiki-e1776715299657.jpg
END:VEVENT
BEGIN:VEVENT
DTSTART;TZID=America/New_York:20260508T193000
DTEND;TZID=America/New_York:20260508T230000
DTSTAMP:20260424T060341
CREATED:20260420T195300Z
LAST-MODIFIED:20260420T195300Z
UID:10000319-1778268600-1778281200@unityofcolumbus.org
SUMMARY:Unity Dance
DESCRIPTION:It’s time to dance!  Join DJ “Spanky” Mezger Fridays at Unity of Columbus!  Open to the public!  Bring your dancin’ shoes! \n$10.00 cover; cash at the door.
URL:https://unityofcolumbus.org/event/unity-dance/2026-05-08/
LOCATION:Unity of Columbus\, 4211 Maize Rd\, Columbus\, OH\, 43224\, United States
ATTACH;FMTTYPE=image/jpeg:https://unityofcolumbus.org/wp-content/uploads/2026/04/unitydance-scaled.jpg
END:VEVENT
BEGIN:VEVENT
DTSTART;TZID=America/New_York:20260510T121500
DTEND;TZID=America/New_York:20260510T123000
DTSTAMP:20260424T060341
CREATED:20260420T195934Z
LAST-MODIFIED:20260420T195934Z
UID:10000581-1778415300-1778416200@unityofcolumbus.org
SUMMARY:Silent Meditation
DESCRIPTION:Prayer is the foundation of our spiritual life. Let us pray with you – no prayer request is too big\, or too small..
URL:https://unityofcolumbus.org/event/silent-meditation/2026-05-10/
LOCATION:Unity of Columbus\, 4211 Maize Rd\, Columbus\, OH\, 43224\, United States
ATTACH;FMTTYPE=image/jpeg:https://unityofcolumbus.org/wp-content/uploads/2026/04/silent.jpg
END:VEVENT
BEGIN:VEVENT
DTSTART;TZID=America/New_York:20260514T190000
DTEND;TZID=America/New_York:20260514T210000
DTSTAMP:20260424T060341
CREATED:20260420T192306Z
LAST-MODIFIED:20260420T200150Z
UID:10000005-1778785200-1778792400@unityofcolumbus.org
SUMMARY:Reiki Share
DESCRIPTION:Reiki practitioners will be there to share with all whom want to come for Reiki healing and practitioners will share with each other. No charge for anyone.
URL:https://unityofcolumbus.org/event/reiki-share/2026-05-14/
LOCATION:Unity of Columbus\, 4211 Maize Rd\, Columbus\, OH\, 43224\, United States
ATTACH;FMTTYPE=image/jpeg:https://unityofcolumbus.org/wp-content/uploads/2026/04/reiki-e1776715299657.jpg
END:VEVENT
BEGIN:VEVENT
DTSTART;TZID=America/New_York:20260515T193000
DTEND;TZID=America/New_York:20260515T230000
DTSTAMP:20260424T060341
CREATED:20260420T195300Z
LAST-MODIFIED:20260420T195300Z
UID:10000320-1778873400-1778886000@unityofcolumbus.org
SUMMARY:Unity Dance
DESCRIPTION:It’s time to dance!  Join DJ “Spanky” Mezger Fridays at Unity of Columbus!  Open to the public!  Bring your dancin’ shoes! \n$10.00 cover; cash at the door.
URL:https://unityofcolumbus.org/event/unity-dance/2026-05-15/
LOCATION:Unity of Columbus\, 4211 Maize Rd\, Columbus\, OH\, 43224\, United States
ATTACH;FMTTYPE=image/jpeg:https://unityofcolumbus.org/wp-content/uploads/2026/04/unitydance-scaled.jpg
END:VEVENT
BEGIN:VEVENT
DTSTART;TZID=America/New_York:20260517T121500
DTEND;TZID=America/New_York:20260517T123000
DTSTAMP:20260424T060341
CREATED:20260420T195934Z
LAST-MODIFIED:20260420T195934Z
UID:10000582-1779020100-1779021000@unityofcolumbus.org
SUMMARY:Silent Meditation
DESCRIPTION:Prayer is the foundation of our spiritual life. Let us pray with you – no prayer request is too big\, or too small..
URL:https://unityofcolumbus.org/event/silent-meditation/2026-05-17/
LOCATION:Unity of Columbus\, 4211 Maize Rd\, Columbus\, OH\, 43224\, United States
ATTACH;FMTTYPE=image/jpeg:https://unityofcolumbus.org/wp-content/uploads/2026/04/silent.jpg
END:VEVENT
BEGIN:VEVENT
DTSTART;TZID=America/New_York:20260521T190000
DTEND;TZID=America/New_York:20260521T210000
DTSTAMP:20260424T060341
CREATED:20260420T192306Z
LAST-MODIFIED:20260420T200150Z
UID:10000006-1779390000-1779397200@unityofcolumbus.org
SUMMARY:Reiki Share
DESCRIPTION:Reiki practitioners will be there to share with all whom want to come for Reiki healing and practitioners will share with each other. No charge for anyone.
URL:https://unityofcolumbus.org/event/reiki-share/2026-05-21/
LOCATION:Unity of Columbus\, 4211 Maize Rd\, Columbus\, OH\, 43224\, United States
ATTACH;FMTTYPE=image/jpeg:https://unityofcolumbus.org/wp-content/uploads/2026/04/reiki-e1776715299657.jpg
END:VEVENT
BEGIN:VEVENT
DTSTART;TZID=America/New_York:20260522T193000
DTEND;TZID=America/New_York:20260522T230000
DTSTAMP:20260424T060341
CREATED:20260420T195300Z
LAST-MODIFIED:20260420T195300Z
UID:10000321-1779478200-1779490800@unityofcolumbus.org
SUMMARY:Unity Dance
DESCRIPTION:It’s time to dance!  Join DJ “Spanky” Mezger Fridays at Unity of Columbus!  Open to the public!  Bring your dancin’ shoes! \n$10.00 cover; cash at the door.
URL:https://unityofcolumbus.org/event/unity-dance/2026-05-22/
LOCATION:Unity of Columbus\, 4211 Maize Rd\, Columbus\, OH\, 43224\, United States
ATTACH;FMTTYPE=image/jpeg:https://unityofcolumbus.org/wp-content/uploads/2026/04/unitydance-scaled.jpg
END:VEVENT
BEGIN:VEVENT
DTSTART;TZID=America/New_York:20260524T121500
DTEND;TZID=America/New_York:20260524T123000
DTSTAMP:20260424T060341
CREATED:20260420T195934Z
LAST-MODIFIED:20260420T195934Z
UID:10000583-1779624900-1779625800@unityofcolumbus.org
SUMMARY:Silent Meditation
DESCRIPTION:Prayer is the foundation of our spiritual life. Let us pray with you – no prayer request is too big\, or too small..
URL:https://unityofcolumbus.org/event/silent-meditation/2026-05-24/
LOCATION:Unity of Columbus\, 4211 Maize Rd\, Columbus\, OH\, 43224\, United States
ATTACH;FMTTYPE=image/jpeg:https://unityofcolumbus.org/wp-content/uploads/2026/04/silent.jpg
END:VEVENT
BEGIN:VEVENT
DTSTART;TZID=America/New_York:20260528T190000
DTEND;TZID=America/New_York:20260528T210000
DTSTAMP:20260424T060341
CREATED:20260420T192306Z
LAST-MODIFIED:20260420T200150Z
UID:10000007-1779994800-1780002000@unityofcolumbus.org
SUMMARY:Reiki Share
DESCRIPTION:Reiki practitioners will be there to share with all whom want to come for Reiki healing and practitioners will share with each other. No charge for anyone.
URL:https://unityofcolumbus.org/event/reiki-share/2026-05-28/
LOCATION:Unity of Columbus\, 4211 Maize Rd\, Columbus\, OH\, 43224\, United States
ATTACH;FMTTYPE=image/jpeg:https://unityofcolumbus.org/wp-content/uploads/2026/04/reiki-e1776715299657.jpg
END:VEVENT
BEGIN:VEVENT
DTSTART;TZID=America/New_York:20260529T193000
DTEND;TZID=America/New_York:20260529T230000
DTSTAMP:20260424T060341
CREATED:20260420T195300Z
LAST-MODIFIED:20260420T195300Z
UID:10000322-1780083000-1780095600@unityofcolumbus.org
SUMMARY:Unity Dance
DESCRIPTION:It’s time to dance!  Join DJ “Spanky” Mezger Fridays at Unity of Columbus!  Open to the public!  Bring your dancin’ shoes! \n$10.00 cover; cash at the door.
URL:https://unityofcolumbus.org/event/unity-dance/2026-05-29/
LOCATION:Unity of Columbus\, 4211 Maize Rd\, Columbus\, OH\, 43224\, United States
ATTACH;FMTTYPE=image/jpeg:https://unityofcolumbus.org/wp-content/uploads/2026/04/unitydance-scaled.jpg
END:VEVENT
BEGIN:VEVENT
DTSTART;TZID=America/New_York:20260531T121500
DTEND;TZID=America/New_York:20260531T123000
DTSTAMP:20260424T060341
CREATED:20260420T195934Z
LAST-MODIFIED:20260420T195934Z
UID:10000584-1780229700-1780230600@unityofcolumbus.org
SUMMARY:Silent Meditation
DESCRIPTION:Prayer is the foundation of our spiritual life. Let us pray with you – no prayer request is too big\, or too small..
URL:https://unityofcolumbus.org/event/silent-meditation/2026-05-31/
LOCATION:Unity of Columbus\, 4211 Maize Rd\, Columbus\, OH\, 43224\, United States
ATTACH;FMTTYPE=image/jpeg:https://unityofcolumbus.org/wp-content/uploads/2026/04/silent.jpg
END:VEVENT
BEGIN:VEVENT
DTSTART;TZID=America/New_York:20260604T190000
DTEND;TZID=America/New_York:20260604T210000
DTSTAMP:20260424T060341
CREATED:20260420T192306Z
LAST-MODIFIED:20260420T200150Z
UID:10000008-1780599600-1780606800@unityofcolumbus.org
SUMMARY:Reiki Share
DESCRIPTION:Reiki practitioners will be there to share with all whom want to come for Reiki healing and practitioners will share with each other. No charge for anyone.
URL:https://unityofcolumbus.org/event/reiki-share/2026-06-04/
LOCATION:Unity of Columbus\, 4211 Maize Rd\, Columbus\, OH\, 43224\, United States
ATTACH;FMTTYPE=image/jpeg:https://unityofcolumbus.org/wp-content/uploads/2026/04/reiki-e1776715299657.jpg
END:VEVENT
BEGIN:VEVENT
DTSTART;TZID=America/New_York:20260605T193000
DTEND;TZID=America/New_York:20260605T230000
DTSTAMP:20260424T060341
CREATED:20260420T195300Z
LAST-MODIFIED:20260420T195300Z
UID:10000323-1780687800-1780700400@unityofcolumbus.org
SUMMARY:Unity Dance
DESCRIPTION:It’s time to dance!  Join DJ “Spanky” Mezger Fridays at Unity of Columbus!  Open to the public!  Bring your dancin’ shoes! \n$10.00 cover; cash at the door.
URL:https://unityofcolumbus.org/event/unity-dance/2026-06-05/
LOCATION:Unity of Columbus\, 4211 Maize Rd\, Columbus\, OH\, 43224\, United States
ATTACH;FMTTYPE=image/jpeg:https://unityofcolumbus.org/wp-content/uploads/2026/04/unitydance-scaled.jpg
END:VEVENT
BEGIN:VEVENT
DTSTART;TZID=America/New_York:20260607T121500
DTEND;TZID=America/New_York:20260607T123000
DTSTAMP:20260424T060341
CREATED:20260420T195934Z
LAST-MODIFIED:20260420T195934Z
UID:10000585-1780834500-1780835400@unityofcolumbus.org
SUMMARY:Silent Meditation
DESCRIPTION:Prayer is the foundation of our spiritual life. Let us pray with you – no prayer request is too big\, or too small..
URL:https://unityofcolumbus.org/event/silent-meditation/2026-06-07/
LOCATION:Unity of Columbus\, 4211 Maize Rd\, Columbus\, OH\, 43224\, United States
ATTACH;FMTTYPE=image/jpeg:https://unityofcolumbus.org/wp-content/uploads/2026/04/silent.jpg
END:VEVENT
BEGIN:VEVENT
DTSTART;TZID=America/New_York:20260611T190000
DTEND;TZID=America/New_York:20260611T210000
DTSTAMP:20260424T060341
CREATED:20260420T192306Z
LAST-MODIFIED:20260420T200150Z
UID:10000009-1781204400-1781211600@unityofcolumbus.org
SUMMARY:Reiki Share
DESCRIPTION:Reiki practitioners will be there to share with all whom want to come for Reiki healing and practitioners will share with each other. No charge for anyone.
URL:https://unityofcolumbus.org/event/reiki-share/2026-06-11/
LOCATION:Unity of Columbus\, 4211 Maize Rd\, Columbus\, OH\, 43224\, United States
ATTACH;FMTTYPE=image/jpeg:https://unityofcolumbus.org/wp-content/uploads/2026/04/reiki-e1776715299657.jpg
END:VEVENT
BEGIN:VEVENT
DTSTART;TZID=America/New_York:20260612T193000
DTEND;TZID=America/New_York:20260612T230000
DTSTAMP:20260424T060341
CREATED:20260420T195300Z
LAST-MODIFIED:20260420T195300Z
UID:10000324-1781292600-1781305200@unityofcolumbus.org
SUMMARY:Unity Dance
DESCRIPTION:It’s time to dance!  Join DJ “Spanky” Mezger Fridays at Unity of Columbus!  Open to the public!  Bring your dancin’ shoes! \n$10.00 cover; cash at the door.
URL:https://unityofcolumbus.org/event/unity-dance/2026-06-12/
LOCATION:Unity of Columbus\, 4211 Maize Rd\, Columbus\, OH\, 43224\, United States
ATTACH;FMTTYPE=image/jpeg:https://unityofcolumbus.org/wp-content/uploads/2026/04/unitydance-scaled.jpg
END:VEVENT
BEGIN:VEVENT
DTSTART;TZID=America/New_York:20260614T121500
DTEND;TZID=America/New_York:20260614T123000
DTSTAMP:20260424T060341
CREATED:20260420T195934Z
LAST-MODIFIED:20260420T195934Z
UID:10000586-1781439300-1781440200@unityofcolumbus.org
SUMMARY:Silent Meditation
DESCRIPTION:Prayer is the foundation of our spiritual life. Let us pray with you – no prayer request is too big\, or too small..
URL:https://unityofcolumbus.org/event/silent-meditation/2026-06-14/
LOCATION:Unity of Columbus\, 4211 Maize Rd\, Columbus\, OH\, 43224\, United States
ATTACH;FMTTYPE=image/jpeg:https://unityofcolumbus.org/wp-content/uploads/2026/04/silent.jpg
END:VEVENT
BEGIN:VEVENT
DTSTART;TZID=America/New_York:20260618T190000
DTEND;TZID=America/New_York:20260618T210000
DTSTAMP:20260424T060341
CREATED:20260420T192306Z
LAST-MODIFIED:20260420T200150Z
UID:10000010-1781809200-1781816400@unityofcolumbus.org
SUMMARY:Reiki Share
DESCRIPTION:Reiki practitioners will be there to share with all whom want to come for Reiki healing and practitioners will share with each other. No charge for anyone.
URL:https://unityofcolumbus.org/event/reiki-share/2026-06-18/
LOCATION:Unity of Columbus\, 4211 Maize Rd\, Columbus\, OH\, 43224\, United States
ATTACH;FMTTYPE=image/jpeg:https://unityofcolumbus.org/wp-content/uploads/2026/04/reiki-e1776715299657.jpg
END:VEVENT
BEGIN:VEVENT
DTSTART;TZID=America/New_York:20260619T193000
DTEND;TZID=America/New_York:20260619T230000
DTSTAMP:20260424T060341
CREATED:20260420T195300Z
LAST-MODIFIED:20260420T195300Z
UID:10000325-1781897400-1781910000@unityofcolumbus.org
SUMMARY:Unity Dance
DESCRIPTION:It’s time to dance!  Join DJ “Spanky” Mezger Fridays at Unity of Columbus!  Open to the public!  Bring your dancin’ shoes! \n$10.00 cover; cash at the door.
URL:https://unityofcolumbus.org/event/unity-dance/2026-06-19/
LOCATION:Unity of Columbus\, 4211 Maize Rd\, Columbus\, OH\, 43224\, United States
ATTACH;FMTTYPE=image/jpeg:https://unityofcolumbus.org/wp-content/uploads/2026/04/unitydance-scaled.jpg
END:VEVENT
BEGIN:VEVENT
DTSTART;TZID=America/New_York:20260621T121500
DTEND;TZID=America/New_York:20260621T123000
DTSTAMP:20260424T060341
CREATED:20260420T195934Z
LAST-MODIFIED:20260420T195934Z
UID:10000587-1782044100-1782045000@unityofcolumbus.org
SUMMARY:Silent Meditation
DESCRIPTION:Prayer is the foundation of our spiritual life. Let us pray with you – no prayer request is too big\, or too small..
URL:https://unityofcolumbus.org/event/silent-meditation/2026-06-21/
LOCATION:Unity of Columbus\, 4211 Maize Rd\, Columbus\, OH\, 43224\, United States
ATTACH;FMTTYPE=image/jpeg:https://unityofcolumbus.org/wp-content/uploads/2026/04/silent.jpg
END:VEVENT
BEGIN:VEVENT
DTSTART;TZID=America/New_York:20260625T190000
DTEND;TZID=America/New_York:20260625T210000
DTSTAMP:20260424T060341
CREATED:20260420T192306Z
LAST-MODIFIED:20260420T200150Z
UID:10000011-1782414000-1782421200@unityofcolumbus.org
SUMMARY:Reiki Share
DESCRIPTION:Reiki practitioners will be there to share with all whom want to come for Reiki healing and practitioners will share with each other. No charge for anyone.
URL:https://unityofcolumbus.org/event/reiki-share/2026-06-25/
LOCATION:Unity of Columbus\, 4211 Maize Rd\, Columbus\, OH\, 43224\, United States
ATTACH;FMTTYPE=image/jpeg:https://unityofcolumbus.org/wp-content/uploads/2026/04/reiki-e1776715299657.jpg
END:VEVENT
END:VCALENDAR